BEGIN:VCALENDAR
PRODID:-//kirchenweb.ch gmbh//veranstaltungsausgabe v2.0//DE
VERSION:2.0
METHOD:PUBLISH
BEGIN:VEVENT
DTSTART:20260531T080000Z
DTEND:20260531T090000Z
LOCATION:Kirche\, Signalstrasse 34\, 9400 Rorschach
TRANSP:OPAQUE
SEQUENCE:0
UID:33004-veranstaltung@ref-rorschach.ch
DTSTAMP:20251203T075737Z
DESCRIPTION:In diesem Gottesdienst ist
  https://www.ref-rorschach.ch/taufemöglich. \n\nFür Kinder ist eine Mal-
  und Spielecke eingerichtet. \n\nIm Anschluss sind alle zum Apero
  eingeladen.\n\nKontakt: Pfr. Patrick Marchlewitz Tel. 071 855 48 65\n
 \nWeitere Infos: https://www.ref-rorschach.ch/veranstaltung/33004
SUMMARY:Punkt 10 Gottesdienst - Konfirmation
PRIORITY:5
X-MICROSOFT-CDO-IMPORTANCE:1
CLASS:PUBLIC
END:VEVENT
END:VCALENDAR
