BEGIN:VCALENDAR
PRODID:-//kirchenweb.ch gmbh//veranstaltungsausgabe v2.0//DE
VERSION:2.0
METHOD:PUBLISH
BEGIN:VEVENT
DTSTART:20260524T080000Z
DTEND:20260524T090000Z
LOCATION:Kirche\, Signalstrasse 34\, 9400 Rorschach
TRANSP:OPAQUE
SEQUENCE:0
UID:33003-veranstaltung@ref-rorschach.ch
DTSTAMP:20260327T071323Z
DESCRIPTION:In diesem Gottesdienst ist
  https://www.ref-rorschach.ch/taufemöglich. \n\nFür Kinder ist eine Mal-
  und Spielecke eingerichtet. \n\nIm Anschluss sind alle zum ChileKafi
  eingeladen.\n\nKontakt: Pfrn. Esther Marchlewitz Tel. 071 844 54 19\n
 \nWeitere Infos: https://www.ref-rorschach.ch/veranstaltung/33003
SUMMARY:Gottesdienst mit Abendmahl - Pfingsten
PRIORITY:5
X-MICROSOFT-CDO-IMPORTANCE:1
CLASS:PUBLIC
END:VEVENT
END:VCALENDAR
