BEGIN:VCALENDAR
PRODID:-//kirchenweb.ch gmbh//veranstaltungsausgabe v2.0//DE
VERSION:2.0
METHOD:PUBLISH
BEGIN:VEVENT
DTSTART:20260514T080000Z
DTEND:20260514T090000Z
LOCATION:Kirchenpark / EKZ\, Signalstrasse 34\, 9400 Rorschach
TRANSP:OPAQUE
SEQUENCE:0
UID:33001-veranstaltung@ref-rorschach.ch
DTSTAMP:20260327T071247Z
DESCRIPTION:Gottesdienst einmal nicht in der Kirche\, sondern im
  Kirchenpark unter freiem Himmel.\n\nIn diesem Gottesdienst ist
  https://www.ref-rorschach.ch/taufemöglich. \n\nIm Anschluss sind alle
  zum Bräteln eingeladen. Brot und Wurst bitte selbst mitbringen. Der
  Grill ist gerichtet. Getränke\, Kaffee und Glacé werden offeriert.\n
 \nKontakt: Pfr. Patrick Marchlewitz Tel. 071 844 54 18\n\nWeitere Infos:
  https://www.ref-rorschach.ch/veranstaltung/33001
SUMMARY:Gottesdienst mit Abendmahl - Auffahrt
PRIORITY:5
X-MICROSOFT-CDO-IMPORTANCE:1
CLASS:PUBLIC
END:VEVENT
END:VCALENDAR
