BEGIN:VCALENDAR
PRODID:-//kirchenweb.ch gmbh//veranstaltungsausgabe v2.0//DE
VERSION:2.0
METHOD:PUBLISH
BEGIN:VEVENT
DTSTART:20260503T080000Z
DTEND:20260503T090000Z
LOCATION:Kirche \, Signalstrasse 34\, 9400 Rorschach
TRANSP:OPAQUE
SEQUENCE:0
UID:32999-veranstaltung@ref-rorschach.ch
DTSTAMP:20251203T075544Z
DESCRIPTION:Ab 9.30 Uhr kann man im Ad-hoc Chor ausgewählte Lieder des
  Gottesdienstes ansingen. \n\nIn diesem Gottesdienst ist
  https://www.ref-rorschach.ch/taufemöglich. \n\nFür Kinder ist eine Mal-
  und Spielecke eingerichtet. \n\nIm Anschluss sind alle zum ChileKafi
  eingeladen. \n\nAn diesem Sonntag fährt der
  https://www.ref-rorschach.ch/kirchenbus.\n\nKontakt: Pfr. Patrick
  Marchlewitz Tel. 071 855 48 65\n\nWeitere Infos:
  https://www.ref-rorschach.ch/veranstaltung/32999
SUMMARY:Gottesdienst - Kantate
PRIORITY:5
X-MICROSOFT-CDO-IMPORTANCE:1
CLASS:PUBLIC
END:VEVENT
END:VCALENDAR
