BEGIN:VCALENDAR
PRODID:-//kirchenweb.ch gmbh//veranstaltungsausgabe v2.0//DE
VERSION:2.0
METHOD:PUBLISH
BEGIN:VEVENT
DTSTART:20260811T170000Z
DTEND:20260811T190000Z
LOCATION:EKZ - Evang. Kirchgemeindezentrum\, \,
TRANSP:OPAQUE
SEQUENCE:0
UID:32973-veranstaltung@ref-rorschach.ch
DTSTAMP:20250701T140452Z
DESCRIPTION:Wann?\nSamstag 26. September — Samstag 3. Oktober 2026\n
 \nFür wen?\nDiese Reise ist für alle Generationen gedacht: Familien\,
  Paare\, Einzelreisende\, Väter / Mütter mit Kindern\, Senioren\, usw.\n
 \nWo?\nKroatien\, Istrien\, Vrsar\n\nUnterkunft\nHotel Belvedere (direkt
  am Meer)\nDoppelzimmer / Einzelzimmer / Familienzimmer 
 \nhttps://www.maistra.com/de/unterkunft/resort-belvedere/?gclid=EAIaIQobCh
 MIkKT-oNzy_wIVIWHmCh2rEw65EAAYASAAEgJa6_D_BwE#/\n\nPreise\nErwachsene im
  DZ Fr. 750.-\nErwachsene im EZ Fr. 890.-\nJugendliche ab 12 Jahren Fr.
  450.-\nKinder ab 3 Jahren Fr. 350.-\nKinder bis 3 Jahre gratis\n\nDie
  Preise enthalten Frühstück und Abendessen (ohne Getränke)\, Anreise
  und die angebotenen Ausflüge. \n\nEssen\nHalbpension mit Abendessen\n
 \nAnreise\nFahrt im Luxus-Reisecar der Firma Gross Reisen Rorschach. \nDer
  Bus bleibt die Woche über bei uns. \n\nProgramm\nWährend der Woche
  werden mehrere Ausflüge in die nähere Region angeboten. Die Teilnahme
  am Programm ist freiwillig. \n\n• Zeit am Strand\n• Rovinj\n•
  Tropfsteinhöhle Jama \n• Ruinenstadt Dvigrad\n• Pula\n• Wanderung 
 \n• Porec \n• Zeit für sich\n\nErmässigung\nNiemand soll aus
  finanziellen Gründen zu Hause bleiben. Bitte wenden sie sich an den
  Sozialdienst der Kirchgemeinde: Dela Fuchs\, Tel. 071 844 54 13.\n
 \nInformationsabend\nAlle Angemeldeten und Interessierten sind am Montag\,
  \n11. August 2026 um 19.00 Uhr zu einem Informationsabend ins
  Evangelische Kirchgemeindezentrum eingeladen. \n\nAnmeldung und Infos\nAb
  sofort bis 23.08.2026\n\nKontakt: Pfr. Patrick Marchlewitz Tel. 071 855
  48 65\nPfrn Esther Marchlewitz Tel. 071 855 48 65\n\nWeitere Infos:
  https://www.ref-rorschach.ch/veranstaltung/32973
SUMMARY:Infoabend - Gemeindereise Kroatien 26.09. - 03.10.2026
PRIORITY:5
X-MICROSOFT-CDO-IMPORTANCE:1
CLASS:PUBLIC
END:VEVENT
END:VCALENDAR
