BEGIN:VCALENDAR
PRODID:-//kirchenweb.ch gmbh//veranstaltungsausgabe v2.0//DE
VERSION:2.0
METHOD:PUBLISH
BEGIN:VEVENT
DTSTART:20260425T073000Z
DTEND:20260425T090000Z
LOCATION:Kirche Eingang West - Kleingottesdienstraum\, \,
TRANSP:OPAQUE
SEQUENCE:0
UID:32688-veranstaltung@ref-rorschach.ch
DTSTAMP:20250601T065737Z
DESCRIPTION:einfach singen - singen für alle!\n\nWer Lust hat\, ganz
  viele verschiedene Lieder zu singen - Kanons\, Volkslieder\, ein paar
  Schlager\, Gospels und viele andere - \, ist herzlich eingeladen!\n\nWir
  treffen uns jeweils samstags um 9.30 bis 11 Uhr im Kleingottesdienstraum
  der Kirche (Eingang West) und singen nach Herzenslust aus einer
  inzwischen ca. 100 Seiten dicken Mappe voller schöner Lieder.\n\nEs ist
  keine Anmeldung nötig.\n\nDie Leitung hat Ute Rendar\, Kirchenmusikerin.
 \n\nDie Termine sind:\n\n24. Januar\, 14. Februar\, 7. März\, 25. April\,
  30. Mai\, 20. Juni\, 15. August\, 12. September\, 31. Oktober und am 12.
  Dezember 2026.\n\n\n\nKontakt: Ute Rendar Tel. 071 460 02 46\n\nWeitere
  Infos: https://www.ref-rorschach.ch/veranstaltung/32688
SUMMARY:einfach singen - singen für alle
PRIORITY:5
X-MICROSOFT-CDO-IMPORTANCE:1
CLASS:PUBLIC
END:VEVENT
END:VCALENDAR
