BEGIN:VCALENDAR
PRODID:-//kirchenweb.ch gmbh//veranstaltungsausgabe v2.0//DE
VERSION:2.0
METHOD:PUBLISH
BEGIN:VEVENT
DTSTART:20260702T173000Z
DTEND:20260702T193000Z
LOCATION:Kirche Eingang West - Treffpunktraum\, Signalstrasse 34\, 9400
  Rorschach
TRANSP:OPAQUE
SEQUENCE:0
UID:32676-veranstaltung@ref-rorschach.ch
DTSTAMP:20250516T153113Z
DESCRIPTION:Bibel im Gespräch ist eine kleine Gruppe\, die sich zum
  Gedankenaustausch\, Bibellesen\,  gemeinsamen Beten und Singen in der
  Regel jeden 1. und 3. Donnerstag des Monats trifft. \n\nWenn Sie
  Interesse haben\, einmal unverbindlich zu schnuppern\, dann nehmen Sie
  gerne mit mir Kontakt auf. Es gibt für die Teilnahme keine
  Altersbeschränkungen. \n\nHerzliche Einladung.\n\nKontakt: Pfr. Patrick
  Marchlewitz Tel. 071 855 48 65\n\nWeitere Infos:
  https://www.ref-rorschach.ch/veranstaltung/32676
SUMMARY:Bibel im Gespräch - Marchlewitz
PRIORITY:5
X-MICROSOFT-CDO-IMPORTANCE:1
CLASS:PUBLIC
END:VEVENT
END:VCALENDAR
