BEGIN:VCALENDAR
PRODID:-//kirchenweb.ch gmbh//veranstaltungsausgabe v2.0//DE
VERSION:2.0
METHOD:PUBLISH
BEGIN:VEVENT
DTSTART:20261111T180000Z
DTEND:20261111T190000Z
LOCATION:EKZ - Evang. Kirchgemeindezentrum\, \,
TRANSP:OPAQUE
SEQUENCE:0
UID:32631-veranstaltung@ref-rorschach.ch
DTSTAMP:20250516T103615Z
DESCRIPTION:\n\nKontakt: Peter Bruderer Tel. 071 844 54 16\n\nWeitere
  Infos: https://www.ref-rorschach.ch/veranstaltung/32631
SUMMARY:Cevi-Kino
PRIORITY:5
X-MICROSOFT-CDO-IMPORTANCE:1
CLASS:PUBLIC
END:VEVENT
END:VCALENDAR
