BEGIN:VCALENDAR
PRODID:-//kirchenweb.ch gmbh//veranstaltungsausgabe v2.0//DE
VERSION:2.0
METHOD:PUBLISH
BEGIN:VEVENT
DTSTART:20260509T120000Z
DTEND:20260509T130000Z
LOCATION:EKZ - Evang. Kirchgemeindezentrum\, \,
TRANSP:OPAQUE
SEQUENCE:0
UID:32619-veranstaltung@ref-rorschach.ch
DTSTAMP:20250516T103753Z
DESCRIPTION:\n\nKontakt: Peter Bruderer Tel. 071 844 54 16\n\nWeitere
  Infos: https://www.ref-rorschach.ch/veranstaltung/32619
SUMMARY:Cevi-Kino
PRIORITY:5
X-MICROSOFT-CDO-IMPORTANCE:1
CLASS:PUBLIC
END:VEVENT
END:VCALENDAR
