BEGIN:VCALENDAR
PRODID:-//kirchenweb.ch gmbh//veranstaltungsausgabe v2.0//DE
VERSION:2.0
METHOD:PUBLISH
BEGIN:VEVENT
DTSTART:20260307T190000Z
DTEND:20260307T210000Z
LOCATION:EKZ - Evang. Kirchgemeindezentrum\, \,
TRANSP:OPAQUE
SEQUENCE:0
UID:32610-veranstaltung@ref-rorschach.ch
DTSTAMP:20260216T141322Z
DESCRIPTION:Die 15-jährige Emma\, die nach einer Vergewaltigung schwanger
  ist\, fordert ihre protestantische und repressive ländliche Gemeinschaft
  heraus\, um sich einen Weg zur Selbstbestimmung zu bahnen. Indem sie das
  Trauma in einen Katalysator der Emanzipation verwandelt\, stellt sie sich
  der moralischen Heuchelei des Dorfes und dem Gespenst des Zweiten
  Weltkriegs\, das sie umgibt.\n\nDrama 98 min\nF/d\, ab 12/14 Jahren\n
 \nOnline-Tickets Reservation. Reservieren Sie Ihren gewünschten Platz
  bequem am Computer. Die Tickets müssen spätestens 15 Minuten vor
  Kinobeginn bei der Kasse gekauft werden.
 \nhttps://www.cevikino.ch/reservation/ \n
 \nhttps://www.outside-thebox.ch/de/silent-rebellion-a-bras-le-corps/
 \n																	\n\nKontakt: Peter Bruderer Tel. 071 844 54 16\n
 \nWeitere Infos: https://www.ref-rorschach.ch/veranstaltung/32610
SUMMARY:Cevi-Kino "Silent Rebellion"
PRIORITY:5
X-MICROSOFT-CDO-IMPORTANCE:1
CLASS:PUBLIC
END:VEVENT
END:VCALENDAR
