BEGIN:VCALENDAR
PRODID:-//kirchenweb.ch gmbh//veranstaltungsausgabe v2.0//DE
VERSION:2.0
METHOD:PUBLISH
BEGIN:VEVENT
DTSTART:20260904T150000Z
DTEND:20260904T160000Z
LOCATION:EKZ - Evang. Kirchgemeindezentrum\, \,
TRANSP:OPAQUE
SEQUENCE:0
UID:32547-veranstaltung@ref-rorschach.ch
DTSTAMP:20250512T165453Z
DESCRIPTION:Der Projektkinderchor "Sunnestrahl" probt für ein Konzert\,
  welches am Samstag\, 19. September um 14 Uhr im Kirchgemeindezentrum
  stattfindet:\n\n"Die Konferenz der Tiere"\, eine Geschichte von Erich
  Kästner\, soll aufgeführt werden.\n\nTiere aus aller Welt wollen sich
  zu einer Konferenz treffen und beraten\, wie man die Menschen dazu
  bringen kann\, dass endlich Frieden auf der ganzen Welt herrscht.\n\nAlle
  Kinder der 1. - 6. Klasse sind herzlich eingeladen\, mitzumachen!\n\nDie
  Proben sind jeweils freitags von 17.00 - 18.00 im Kirchgemeindezentrum an
  folgenden Daten: \n\nam 28. August\, 4. September\, 11. September und am
  18. September 2026.\n\nDie Leitung hat Ute Rendar.\n\nKontakt: Ute Rendar
  Tel. 071 460 02 46\n\nWeitere Infos:
  https://www.ref-rorschach.ch/veranstaltung/32547
SUMMARY:Kinderchor Sunnestrahl Probe
PRIORITY:5
X-MICROSOFT-CDO-IMPORTANCE:1
CLASS:PUBLIC
END:VEVENT
END:VCALENDAR
