BEGIN:VCALENDAR
PRODID:-//kirchenweb.ch gmbh//veranstaltungsausgabe v2.0//DE
VERSION:2.0
METHOD:PUBLISH
BEGIN:VEVENT
DTSTART:20260424T150000Z
DTEND:20260424T160000Z
LOCATION:Kirche Eingang West - Kleingottesdienstraum\, \,
TRANSP:OPAQUE
SEQUENCE:0
UID:32543-veranstaltung@ref-rorschach.ch
DTSTAMP:20260423T153415Z
DESCRIPTION:Im Projektkinderchor Sunnestrahl sind alle Kinder der 1. - 6.
  Klasse eingeladen\, mitzusingen!\n\nWir proben für 2 Auftritte:\n\nAm
  Freitag\, 8. Mai singen wir im Pflegeheim Pelago in Rorschach und am \n
 \nSonntag\, 10. Mai singen wir dieselben Lieder im Familiengottesdienst
  zum Muttertag um 10 Uhr \n\nin der Kirche.\n\nDie Probendaten sind:\n
 \njeweils freitags von 17.00 bis 18.00 am\n\n27. März im Evang.
  Kirchgemeindezentrum und am 24. April und am 1. Mai 2026 jeweils im\n
 \nKleingottesdienstraum der Kirche (Eingang West).\n\n\nDie Leitung hat
  Ute Rendar\, Kirchenmusikerin.\n\nAnmeldung und Infos:
  ute.rendar@ref-rorschach.ch\n\nKontakt: Ute Rendar Tel. 071 460 02 46\n
 \nWeitere Infos: https://www.ref-rorschach.ch/veranstaltung/32543
SUMMARY:Kinderchor Sunnestrahl Probe
PRIORITY:5
X-MICROSOFT-CDO-IMPORTANCE:1
CLASS:PUBLIC
END:VEVENT
END:VCALENDAR
