BEGIN:VCALENDAR
PRODID:-//kirchenweb.ch gmbh//veranstaltungsausgabe v2.0//DE
VERSION:2.0
METHOD:PUBLISH
BEGIN:VEVENT
DTSTART:20260422T080000Z
DTEND:20260422T084000Z
LOCATION:EKZ - Evang. Kirchgemeindezentrum\, \,
TRANSP:OPAQUE
SEQUENCE:0
UID:32503-veranstaltung@ref-rorschach.ch
DTSTAMP:20250511T141631Z
DESCRIPTION:Der Singplausch ist für Kleinkinder von 2-4 Jahren in
  Begleitung von einer erwachsenen Person\, - sei es Mutter oder Vater\,
  Grossmutter oder Gotte.\nWir machen 40 Minuten lang mit viel Spass
  Musik\, - wir singen\, wir bewegen uns und spielen mit kleinen
  Instrumenten.\nIm Anschluss daran gibts ein kleines Znüni.\nDie Termine
  sind: jeweils mittwochs\, am 22.4.\, 29.4.\, 6.5.\, 20.5. und am
  27.5.2026.\nDie Leitung hat Ute Rendar.\nAnmeldung und Info unter:
  ute.rendar@ref-rorschach.ch\n\nKontakt: Ute Rendar Tel. 071 460 02 46\n
 \nWeitere Infos: https://www.ref-rorschach.ch/veranstaltung/32503
SUMMARY:Singplausch für Kleinkinder
PRIORITY:5
X-MICROSOFT-CDO-IMPORTANCE:1
CLASS:PUBLIC
END:VEVENT
END:VCALENDAR
