BEGIN:VCALENDAR
PRODID:-//kirchenweb.ch gmbh//veranstaltungsausgabe v2.0//DE
VERSION:2.0
METHOD:PUBLISH
BEGIN:VEVENT
DTSTART:20260627T150000Z
DTEND:20260627T160000Z
LOCATION:Kirche\, \,
TRANSP:OPAQUE
SEQUENCE:0
UID:32427-veranstaltung@ref-rorschach.ch
DTSTAMP:20250508T151421Z
DESCRIPTION:Chöre der Region Rorschach singen weltliche Lieder.\n
 \nAnschliessend Apero im EKZ / Kirchenpark\n\nEintritt frei. Kollekte
  erbeten. \n\nKontakt: Pfr. Patrick Marchlewitz Tel. 071 855 48 65\n
 \nWeitere Infos: https://www.ref-rorschach.ch/veranstaltung/32427
SUMMARY:Konzert: Chöre der Region Rorschach
PRIORITY:5
X-MICROSOFT-CDO-IMPORTANCE:1
CLASS:PUBLIC
END:VEVENT
END:VCALENDAR
