BEGIN:VCALENDAR
PRODID:-//kirchenweb.ch gmbh//veranstaltungsausgabe v2.0//DE
VERSION:2.0
METHOD:PUBLISH
BEGIN:VEVENT
DTSTART:20260111T160000Z
DTEND:20260111T184500Z
LOCATION:EKZ - Evang. Kirchgemeindezentrum\, \,
TRANSP:OPAQUE
SEQUENCE:0
UID:32183-veranstaltung@ref-rorschach.ch
DTSTAMP:20251222T122121Z
DESCRIPTION:Mit ihrem neuen Spielfilm All That’s Left of You gelingt der
  palästinensisch-amerikanischen Regisseurin Cherien Dabis eine
  Punktlandung in der Gegenwart. Sie erzählt von drei Generationen einer
  palästinensischen Familie im Wandel der Geschichte. Vor den aktuellen
  Ereignissen entstanden\, verdeutlicht das intime und feinfühlige Epos
  die tiefen Wurzeln des anhaltenden Konflikts und weckt gleichzeitig
  Hoffnung auf Heilung.\nIm besetzten Westjordanland schliesst sich der
  junge Noor 1988 einem Protest an\, bei dem er schwer verletzt wird. Noors
  Mutter nimmt uns mit auf eine Reise durch mehrere Jahrzehnte und
  schildert die bewegte Geschichte ihrer Familie seit der Vertreibung aus
  Jaffa im Jahr 1948. In ihrem dritten Spielfilm erzählt die
  palästinensisch-amerikanische Regisseurin und Schauspielerin Cherien
  Dabis ein zutiefst berührendes Familienepos\, das zeigt\, wie tief die
  Wurzeln heutiger Schlagzeilen liegen.\n\nDrama 145 min \nO/df ab 12/16\n
 \nOnline-Tickets Reservation. Reservieren Sie Ihren gewünschten Platz
  bequem am Computer. Die Tickets müssen spätestens 15 Minuten vor
  Kinobeginn bei der Kasse gekauft werden.
 \nhttps://www.cevikino.ch/reservation/ \n
 \nhttps://trigon-film.org/de/filme/all-thats-left-of-you/
 \n																	\n\nKontakt: Peter Bruderer Tel. 071 844 54 16\n
 \nWeitere Infos: https://www.ref-rorschach.ch/veranstaltung/32183
SUMMARY:Cevi-Kino "All That's Left of You"
PRIORITY:5
X-MICROSOFT-CDO-IMPORTANCE:1
CLASS:PUBLIC
END:VEVENT
END:VCALENDAR
