BEGIN:VCALENDAR
PRODID:-//kirchenweb.ch gmbh//veranstaltungsausgabe v2.0//DE
VERSION:2.0
METHOD:PUBLISH
BEGIN:VEVENT
DTSTART:20260111T130000Z
DTEND:20260111T150000Z
LOCATION:EKZ - Evang. Kirchgemeindezentrum\, \,
TRANSP:OPAQUE
SEQUENCE:0
UID:32182-veranstaltung@ref-rorschach.ch
DTSTAMP:20251222T121735Z
DESCRIPTION:In Walt Disney Animation Studios ZOOMANIA 2 geraten die
  tierischen Detektive Judy Hopps und Nick Wilde auf die rätselhafte Spur
  eines geheimnisvollen Reptils\, das in Zoomania auftaucht und die
  Metropole völlig auf den Kopf stellt: Gary De’Snake! Um den Fall zu
  lösen\, müssen die beiden undercover in völlig unbekannte Stadtteile
  vordringen – und dabei wird ihre wachsende Partnerschaft auf eine harte
  Probe gestellt.\n\nAnimation 108 min \ndeutsch ab 6/8 Jahren\n\n
 \nOnline-Tickets Reservation. Reservieren Sie Ihren gewünschten Platz
  bequem am Computer. Die Tickets müssen spätestens 15 Minuten vor
  Kinobeginn bei der Kasse gekauft werden.
 \nhttps://www.cevikino.ch/reservation/ \n
 \nhttps://www.disney.de/filme/zoomania-2\n																	\n\nKontakt:
  Peter Bruderer Tel. 071 844 54 16\n\nWeitere Infos:
  https://www.ref-rorschach.ch/veranstaltung/32182
SUMMARY:Cevi-Kino "Zoomania 2"
PRIORITY:5
X-MICROSOFT-CDO-IMPORTANCE:1
CLASS:PUBLIC
END:VEVENT
END:VCALENDAR
