BEGIN:VCALENDAR
PRODID:-//kirchenweb.ch gmbh//veranstaltungsausgabe v2.0//DE
VERSION:2.0
METHOD:PUBLISH
BEGIN:VEVENT
DTSTART:20260109T180000Z
DTEND:20260109T200000Z
LOCATION:EKZ - Evang. Kirchgemeindezentrum\, \,
TRANSP:OPAQUE
SEQUENCE:0
UID:32178-veranstaltung@ref-rorschach.ch
DTSTAMP:20251222T121353Z
DESCRIPTION:Eigentlich ist es nur ein Aprilscherz. Der chinesische
  Gastschüler Xi Zhou ersetzt im offenen Heck des Lieferdienstwagens einen
  Pizzakarton durch eine «kleine Überraschung» – und stürzt damit
  alles ins Chaos. Eine irrwitzige Verkettung von Missverständnissen nimmt
  ihren Lauf. Zuerst wird Lucas\, der Sohn von Xi Zhous Gastgeber-Familie\,
  darin verwickelt. Dann nach und nach auch eine Gangsterrapper-Truppe\,
  ein mässig fähiges Polizistenduo und schliesslich ein echter
  Mafia-Clan. Wie um Himmels Willen sollen die beiden Jungs das nur alles
  wieder entwirren? Ist ja klar: mit einem weiteren aber sowas von gut
  durchdachten Prank!\n\nFamilienfilm 91 min \nDeutsch ab 6 Jahren\n
 \nOnline-Tickets Reservation. Reservieren Sie Ihren gewünschten Platz
  bequem am Computer. Die Tickets müssen spätestens 15 Minuten vor
  Kinobeginn bei der Kasse gekauft werden.
 \nhttps://www.cevikino.ch/reservation/ \n
 \nhttps://www.filmcoopi.ch/movie/der-prank\n																	\n\nKontakt:
  Peter Bruderer Tel. 071 844 54 16\n\nWeitere Infos:
  https://www.ref-rorschach.ch/veranstaltung/32178
SUMMARY:Cevi-Kino "Der Prank"
PRIORITY:5
X-MICROSOFT-CDO-IMPORTANCE:1
CLASS:PUBLIC
END:VEVENT
END:VCALENDAR
