BEGIN:VCALENDAR
PRODID:-//kirchenweb.ch gmbh//veranstaltungsausgabe v2.0//DE
VERSION:2.0
METHOD:PUBLISH
BEGIN:VEVENT
DTSTART:20260108T183000Z
DTEND:20260108T204500Z
LOCATION:EKZ - Evang. Kirchgemeindezentrum\, \,
TRANSP:OPAQUE
SEQUENCE:0
UID:32177-veranstaltung@ref-rorschach.ch
DTSTAMP:20260216T135950Z
DESCRIPTION:Wir schreiben das Jahr 1956. Werbetexterin Emmi Creola (Sarah
  Spale) soll die Produkte einer Speiseölfirma vermarkten und erfindet
  dabei gegen den Widerstand ihrer Agentur die Kunstfigur Betty Bossi. Die
  «Köchin und Hausfrau der Nation» wird schon bald populär und erhält
  jede Menge Fanpost. Viele Leute glauben\, dass es Frau Bossi tatsächlich
  gibt. Die bis anhin eher zurückhaltende Emmi gerät unverhofft ins
  Rampenlicht der Öffentlichkeit. Das neue Promileben als Schweizer
  Kochikone ist aufregend\, aber auch kräftezehrend. Emmi kämpft in der
  Agentur gegen Neid und Missgunst ihrer männlichen Kollegen und versucht
  zu Hause weiterhin eine liebevolle Mutter und Ehefrau zu sein - ganz nach
  dem Vorbild ihrer Kunstfigur. Emmi wird so immer mehr aufgerieben
  zwischen Beruf und Familie. Mit berührenden Momenten und feinem Humor
  zeichnet HALLO BETTY ein buntes Sittenbild jener Zeit.\n\nCH-Komödie 110
  min\nDialekt\, ab 6/10 Jahren\n\nOnline-Tickets Reservation. Reservieren
  Sie Ihren gewünschten Platz bequem am Computer. Die Tickets müssen
  spätestens 15 Minuten vor Kinobeginn bei der Kasse gekauft werden.
 \nhttps://www.cevikino.ch/reservation/ \n
 \nhttps://www.ascot-elite.ch/movie/hallo-betty\n																							\n
 \nKontakt: Peter Bruderer Tel. 071 844 54 16\n\nWeitere Infos:
  https://www.ref-rorschach.ch/veranstaltung/32177
SUMMARY:Cevi-Kino "Hallo Betty"
PRIORITY:5
X-MICROSOFT-CDO-IMPORTANCE:1
CLASS:PUBLIC
END:VEVENT
END:VCALENDAR
