BEGIN:VCALENDAR
PRODID:-//kirchenweb.ch gmbh//veranstaltungsausgabe v2.0//DE
VERSION:2.0
METHOD:PUBLISH
BEGIN:VEVENT
DTSTART:20260425T080000Z
DTEND:20260425T123000Z
LOCATION:EKZ - Evang. Kirchgemeindezentrum\, \,
TRANSP:OPAQUE
SEQUENCE:0
UID:32106-veranstaltung@ref-rorschach.ch
DTSTAMP:20260113T194037Z
DESCRIPTION:\n\nKontakt: Dela Fuchs Tel. 071 844 54 13\n\nWeitere Infos:
  https://www.ref-rorschach.ch/veranstaltung/32106
SUMMARY:Benefiz Kleiderflohmarkt
PRIORITY:5
X-MICROSOFT-CDO-IMPORTANCE:1
CLASS:PUBLIC
END:VEVENT
END:VCALENDAR
