BEGIN:VCALENDAR
PRODID:-//kirchenweb.ch gmbh//veranstaltungsausgabe v2.0//DE
VERSION:2.0
METHOD:PUBLISH
BEGIN:VEVENT
DTSTART:20260429T143000Z
DTEND:20260429T150000Z
LOCATION:EKZ - Evang. Kirchgemeindezentrum\, \,
TRANSP:OPAQUE
SEQUENCE:0
UID:31989-veranstaltung@ref-rorschach.ch
DTSTAMP:20251218T105345Z
DESCRIPTION:Kontakt: Dela Fuchs Tel. 071 844 54 13\n\nWeitere Infos:
  https://www.ref-rorschach.ch/veranstaltung/31989
SUMMARY:Lebensmittel für kleine Budgets
PRIORITY:5
X-MICROSOFT-CDO-IMPORTANCE:1
CLASS:PUBLIC
END:VEVENT
END:VCALENDAR
