BEGIN:VCALENDAR
PRODID:-//kirchenweb.ch gmbh//veranstaltungsausgabe v2.0//DE
VERSION:2.0
METHOD:PUBLISH
BEGIN:VEVENT
DTSTART:20251115T160000Z
DTEND:20251115T180000Z
LOCATION:EKZ - Evang. Kirchgemeindezentrum\, \,
TRANSP:OPAQUE
SEQUENCE:0
UID:30772-veranstaltung@ref-rorschach.ch
DTSTAMP:20251023T150857Z
DESCRIPTION:Miriam (Tomomi Themann) wohnt ein paar Monate bei ihrer
  Freundin Ida (Emilia Maier) und geht in dieser Zeit gemeinsam mit ihr auf
  die Wintersteinschule. Sie weiss nichts von der magischen Gemeinschaft.
  Doch gleich an ihrem ersten Schultag übergibt Mr. Morrison (Milan
  Peschel) der Klasse zwei neue magische Tiere: Max (Thilo Fridolin
  Matthes) erhält die Eule Muriel (Stimme: Annett Louisan) und zu Miriams
  grössten Erstaunen bekommt sie den energiegeladenen Koboldmaki
  Fitzgeraldo (Stimme: Daniel Zillmann). Muriel erkennt schnell\, dass Max
  möglicherweise mehr für seine beste Freundin Leonie (Purnima Grätz)
  empfindet\, als er denkt. Miriam vertraut Fitzgeraldo an\, dass sie auf
  ihrer alten Schule die Aussenseiterin war. Dann findet Ida durch Zufall
  heraus\, dass die Wintersteinschule geschlossen werden soll. In der
  anstehenden Schulchallenge erkennen Ida und ihre Klasse ihre letzte
  Chance\, die Schule und damit die magische Gemeinschaft zu retten. Zu
  ihrem Schrecken erfährt Miriam\, dass ihre eigentliche Schule
  ausgerechnet mit ihrem ehemaligen Mitschüler Torben (Philip Müller)
  ebenfalls an dem Wettbewerb teilnimmt. Unter Druck gesetzt von ihrer
  alten Klasse gerät Miriam zwischen die Fronten. Kann die
  Wintersteinschule die Schulchallenge gewinnen? Und kann die Klasse
  dadurch die Schulschliessung verhindern?\n\nFamilienfilm 103 min
 \nDeutsch\, ab 6/8 Jahren\n\nOnline-Tickets Reservation. Reservieren Sie
  Ihren gewünschten Platz bequem am Computer. Die Tickets müssen
  spätestens 15 Minuten vor Kinobeginn bei der Kasse gekauft werden.
 \nhttps://www.cevikino.ch/reservation/ \n
 \nhttps://dcmstories.com/de-ch/movie/die-schule-der-magischen-tiere-4/
 \n																	\n\nKontakt: Peter Bruderer Tel. 071 844 54 16\n
 \nWeitere Infos: https://www.ref-rorschach.ch/veranstaltung/30772
SUMMARY:Cevi-Kino "Die Schule der magischen Tiere 4"
PRIORITY:5
X-MICROSOFT-CDO-IMPORTANCE:1
CLASS:PUBLIC
END:VEVENT
END:VCALENDAR
