BEGIN:VCALENDAR
PRODID:-//kirchenweb.ch gmbh//veranstaltungsausgabe v2.0//DE
VERSION:2.0
METHOD:PUBLISH
BEGIN:VEVENT
DTSTART:20250509T170000Z
DTEND:20250509T191000Z
LOCATION:EKZ - Evang. Kirchgemeindezentrum\, \,
TRANSP:OPAQUE
SEQUENCE:0
UID:30757-veranstaltung@ref-rorschach.ch
DTSTAMP:20250409T121531Z
DESCRIPTION:SCHNEEWITTCHEN\, die Neuinszenierung von Disneys Filmklassiker
  aus dem Jahr 1937\, ist ein magisches Musikabenteuer und entführt das
  Publikum zurück in die zeitlose Geschichte\, mit Rachel Zegler in der
  Hauptrolle und Gal Gadot als ihre Stiefmutter\, die Böse Königin.\n
 \nAbenteuer 109 min\nDeutsch\, ab 6 Jahren\n\nOnline-Tickets Reservation.
  Reservieren Sie Ihren gewünschten Platz bequem am Computer. Die Tickets
  müssen spätestens 15 Minuten vor Kinobeginn bei der Kasse gekauft
  werden.\nhttps://www.cevikino.ch/reservation/ \n
 \nhttps://www.disney.de/filme/schneewittchen-2025
 \n																													\n\nKontakt: Peter Bruderer Tel. 071 844 54
  16\n\nWeitere Infos: https://www.ref-rorschach.ch/veranstaltung/30757
SUMMARY:Cevi-Kino "Schneewittchen"
PRIORITY:5
X-MICROSOFT-CDO-IMPORTANCE:1
CLASS:PUBLIC
END:VEVENT
END:VCALENDAR
