BEGIN:VCALENDAR
PRODID:-//kirchenweb.ch gmbh//veranstaltungsausgabe v2.0//DE
VERSION:2.0
METHOD:PUBLISH
BEGIN:VEVENT
DTSTART:20241121T133000Z
DTEND:20241121T150000Z
LOCATION:EKZ - Evang. Kirchgemeindezentrum\, \,
TRANSP:OPAQUE
SEQUENCE:0
UID:29358-veranstaltung@ref-rorschach.ch
DTSTAMP:20241128T073323Z
DESCRIPTION:Von Key West zu den Orcas Islands\nTon-Präsentation mit Rolf
  Kühni Pfarrer i.R.\nTrotz allem: Amerika fasziniert weiterhin! Eine
  aussergewöhnliche Reise durch die USA\, von rechts unten bis links oben
  - mit überraschenden Informationen und USA-Evergreens aus den 30er- bis
  60er-Jahren. Zum Geniessen\, Schauen und Mitsummen.\nAnschliessend gibt
  es einen feinen z’Vieri. Alle Interessierten sind dazu herzlich
  eingeladen.\n\n\nKontakt: Peter Bruderer Tel. 071 844 54 16\n\nWeitere
  Infos: https://www.ref-rorschach.ch/veranstaltung/29358
SUMMARY:Seniorennachmittag "Bildervortrag USA: ROUTE 99"
PRIORITY:5
X-MICROSOFT-CDO-IMPORTANCE:1
CLASS:PUBLIC
END:VEVENT
END:VCALENDAR
