BEGIN:VCALENDAR
PRODID:-//kirchenweb.ch gmbh//veranstaltungsausgabe v2.0//DE
VERSION:2.0
METHOD:PUBLISH
BEGIN:VEVENT
DTSTART:20240524T170000Z
DTEND:20240524T190000Z
LOCATION:EKZ - Evang. Kirchgemeindezentrum\, \,
TRANSP:OPAQUE
SEQUENCE:0
UID:29328-veranstaltung@ref-rorschach.ch
DTSTAMP:20240503T094144Z
DESCRIPTION:Skadooosh! Das Warten hat ein Ende! Po\, der ungewöhnlichste
  Kung-Fu-Meister der Welt\, endlich zurück auf die Kinoleinwand. In KUNG
  FU PANDA 4 erlebt der Drachenkrieger mit dem gesegneten Appetit sein
  bisher grösstes Abenteuer. Als spiritueller Führer des Tals des
  Friedens bekommt er es mit neuen – und alten – Widersachern zu tun.
 \nAnimationsfilm 94 min \nDeutsch ab 6/8 Jahren\n\nOnline-Tickets
  Reservation. Reservieren Sie Ihren gewünschten Platz bequem am Computer.
  Die Tickets müssen spätestens 15 Minuten vor Kinobeginn bei der Kasse
  gekauft werden.\nhttps://www.cevikino.ch/reservation/ \n
 \nhttps://www.universalpictures.ch/micro/kung-fu-panda-4\n	
  																		\n\nKontakt: Peter Bruderer Tel. 071 844 54 16\n
 \nWeitere Infos: https://www.ref-rorschach.ch/veranstaltung/29328
SUMMARY:Cevi-Kino "Kung Fu Panda 4"
PRIORITY:5
X-MICROSOFT-CDO-IMPORTANCE:1
CLASS:PUBLIC
END:VEVENT
END:VCALENDAR
