BEGIN:VCALENDAR
PRODID:-//kirchenweb.ch gmbh//veranstaltungsausgabe v2.0//DE
VERSION:2.0
METHOD:PUBLISH
BEGIN:VEVENT
DTSTART:20230927T173000Z
DTEND:20230927T200000Z
LOCATION:GleisK\, \,
TRANSP:OPAQUE
SEQUENCE:0
UID:28795-veranstaltung@ref-rorschach.ch
DTSTAMP:20230322T093740Z
DESCRIPTION:Jeden 2. und 4. Mittwoch im Monat \nGleis K\, Signalstrasse
  34\, 9400 Rorschach\n\nDer Spass am Spielen steht bei uns im Vordergrund.
  \nEs sind einige Spiele vorhanden\, gerne kannst Du Dein Lieblingsspiel
  mitbringen. \nWir freuen uns auf Dich und das gemeinsame Spielen. \n
 \nErika Müller + Heike Kramer\n\nWeitere Infos und Anmeldung bei Heike \n
 \nKontakt: Heike Kramer\n\nWeitere Infos:
  https://www.ref-rorschach.ch/veranstaltung/28795
SUMMARY:Spieleabend
PRIORITY:5
X-MICROSOFT-CDO-IMPORTANCE:1
CLASS:PUBLIC
END:VEVENT
END:VCALENDAR
