BEGIN:VCALENDAR
PRODID:-//kirchenweb.ch gmbh//veranstaltungsausgabe v2.0//DE
VERSION:2.0
METHOD:PUBLISH
BEGIN:VEVENT
DTSTART:20230921T120000Z
DTEND:20230921T150000Z
LOCATION:EKZ - Evang. Kirchgemeindezentrum\, \,
TRANSP:OPAQUE
SEQUENCE:0
UID:28105-veranstaltung@ref-rorschach.ch
DTSTAMP:20221214T092624Z
DESCRIPTION:Das Angebot soll Müttern und Vätern die Möglichkeit
  bieten\, ihre Kinder an einem Nachmittag hüten zu lassen. Während die
  Kinder in der Mini-Arche spielen\, z‘Vieri essen und eine Geschichte
  hören\, können die Eltern ihre Termine wahrnehmen.\nZeit: \n14 - 15 Uhr
  flexibles Ankommen/ 15 - 16 Uhr spielen\, essen und Geschichte hören\n16
  - 17 Uhr flexibles Abholen der Kinder\nKosten: pro Kind 5 Fr.\nAlter:  2
  - 8 Jahre\nLeitung Betreuung: Dela Fuchs\nBegleitung: Freiwillige
  Helfer:innen\nOrganisation: Evang.-ref. Kirchgemeinde Rorschach
 \nAuskunft: Dela Fuchs 071 844 54 13/ dela.fuchs@ref-rorschach.ch\nMit
  Voranmeldung. Die Teilnehmerzahl ist begrenzt.\n\nKontakt: Dela Fuchs
  Tel. 071 844 54 13\n\nWeitere Infos:
  https://www.ref-rorschach.ch/veranstaltung/28105
SUMMARY:Mini-Arche Kinderhüte
PRIORITY:5
X-MICROSOFT-CDO-IMPORTANCE:1
CLASS:PUBLIC
END:VEVENT
END:VCALENDAR
