BEGIN:VCALENDAR
PRODID:-//kirchenweb.ch gmbh//veranstaltungsausgabe v2.0//DE
VERSION:2.0
METHOD:PUBLISH
BEGIN:VEVENT
DTSTART:20240427T093000Z
DTEND:20240427T123000Z
LOCATION:EKZ - Evang. Kirchgemeindezentrum und Trischliplatz\, \,
TRANSP:OPAQUE
SEQUENCE:0
UID:27698-veranstaltung@ref-rorschach.ch
DTSTAMP:20240113T115724Z
DESCRIPTION:In Zusammenarbeit mit der Feuerwehr Rorschach-Rorschacherberg
  laden die Kirchen der Region ein\, am Samstag\, 27. April 2024 eine
  Suppe\, Kaffee und Kuchen und… hoffentlich noch mehr!... zu geniessen. 
 \n\nUnsere Standorte in Rorschach:\n- Trischliplatz vor der Migros\n-
  Evangelisches Kirchgemeindezentrum (parallel zum
  Benefiz-Kleiderflohmarkt)\n\nAlle Einnahmen kommen vollumfänglich der
  Arbeit von ‘Mine-ex’ in Kambodscha\, Afghanistan\, usw... zugut
  (Opferhilfe\, Prothesen\, Rehabilitation\, Reintegration). \n\nWir freuen
  uns auf Sie! \n\n\n\nKontakt: Pfr. Pius F. Helfenstein Tel. 071 844 54 14
 \n\nWeitere Infos: https://www.ref-rorschach.ch/veranstaltung/27698
SUMMARY:Mit Suppe helfen
PRIORITY:5
X-MICROSOFT-CDO-IMPORTANCE:1
CLASS:PUBLIC
END:VEVENT
END:VCALENDAR
