BEGIN:VCALENDAR
PRODID:-//kirchenweb.ch gmbh//veranstaltungsausgabe v2.0//DE
VERSION:2.0
METHOD:PUBLISH
BEGIN:VEVENT
DTSTART:20230517T170000Z
DTEND:20230517T180000Z
LOCATION:Kirche Eingang West - Kleingottesdienstraum\, \,
TRANSP:OPAQUE
SEQUENCE:0
UID:27661-veranstaltung@ref-rorschach.ch
DTSTAMP:20221206T144230Z
DESCRIPTION:Was erwartet mich?\nMitten in der Woche den Tag bewusst
  ausklingen lassen. \nMit anderen und der Bibel ins Gespräch kommen. 
 \nGottes Gegenwart in der Stille spüren. Gemeinsam singen. Über das
  Gewohnte hinausblicken. \n\nAm Tisch sitzend feiern\nWir sitzen im
  Kleingottesdienstraum am gedeckten Tisch.\nWährend der Feier teilen wir
  Brot und Saft miteinander. Anschliessend lassen wir den Abend ausklingen.
  \n\nDie Andacht kann jederzeit verlassen werden\, wenn das Bett oder der
  Alltag rufen. \n\nWas erwartet mich?\nMitten in der Woche den Tag bewusst
  ausklingen lassen. \nMit anderen und der Bibel ins Gespräch kommen. 
 \nGottes Gegenwart in der Stille spüren. Gemeinsam singen. Über das
  Gewohnte hinausblicken. \n\nAm Tisch sitzend feiern\nWir sitzen im
  Kleingottesdienstraum am gedeckten Tisch.\nWährend der Feier teilen wir
  Brot und Saft miteinander. Anschliessend lassen wir den Abend ausklingen.
  \n\nDie Andacht kann jederzeit verlassen werden\, wenn das Bett oder der
  Alltag rufen. \n\nDie Teilnahme ist kostenlos\,\nEine Anmeldung ist nicht
  erforderlich.\nDie Spätschicht findet jeden 3. Mittwoch im Monat statt.
 \n\nKontakt: Pfrn Esther Marchlewitz Tel. 071 855 48 65\n\nWeitere Infos:
  https://www.ref-rorschach.ch/veranstaltung/27661
SUMMARY:Spätschicht - Abendandacht
PRIORITY:5
X-MICROSOFT-CDO-IMPORTANCE:1
CLASS:PUBLIC
END:VEVENT
END:VCALENDAR
