BEGIN:VCALENDAR
PRODID:-//kirchenweb.ch gmbh//veranstaltungsausgabe v2.0//DE
VERSION:2.0
METHOD:PUBLISH
BEGIN:VEVENT
DTSTART:20230118T180000Z
DTEND:20230118T190000Z
LOCATION:Kirche Eingang West - Kleingottesdienstraum\, \,
TRANSP:OPAQUE
SEQUENCE:0
UID:27657-veranstaltung@ref-rorschach.ch
DTSTAMP:20221207T070431Z
DESCRIPTION:Spätschicht - Abendandacht am gedeckten Tisch\n\nJeden 3.
  Mittwoch im Monat um 19.00 Uhr (Eingang West)\n(Keine Feier im Juli und
  Dezember)\n\nWas erwartet mich?\nMitten in der Woche den Tag bewusst
  ausklingen lassen. Mit anderen und der Bibel ins Gespräch kommen. Gottes
  Gegenwart in der Stille spüren. Gemeinsam singen. Über das Gewohnte
  hinausblicken.\n\nAm Tisch sitzend feiern\nWir sitzen am gedeckten Tisch.
  Während der Feier teilen wir Brot und Saft miteinander. Anschliessend
  lassen wir den Abend ausklingen. Die Andacht kann jederzeit verlassen
  werden\, wenn das Bett oder der Alltag rufen.\n\nKosten\nDie Teilnahme
  ist kostenlos. \n\nAnmeldung\nEs ist keine Anmeldung erforderlich. \n
 \nKontakt: Pfr. Patrick Marchlewitz Tel. 071 855 48 65\n\nWeitere Infos:
  https://www.ref-rorschach.ch/veranstaltung/27657
SUMMARY:Spätschicht - Abendandacht
PRIORITY:5
X-MICROSOFT-CDO-IMPORTANCE:1
CLASS:PUBLIC
END:VEVENT
END:VCALENDAR
