BEGIN:VCALENDAR
PRODID:-//kirchenweb.ch gmbh//veranstaltungsausgabe v2.0//DE
VERSION:2.0
METHOD:PUBLISH
BEGIN:VEVENT
DTSTART:20230730T080000Z
DTEND:20230730T090000Z
LOCATION:Kirche \, Signalstrasse 34\, 9400 Rorschach
TRANSP:OPAQUE
SEQUENCE:0
UID:27646-veranstaltung@ref-rorschach.ch
DTSTAMP:20230703T183736Z
DESCRIPTION:In diesem Gottesdienst ist https://www.ref-rorschach.ch/taufe
  möglich. \n\nFür Kinder ist eine Mal- und Spielecke eingerichtet.\n\nIm
  Anschluss sind alle zum ChileKafi eingeladen. \n\nKontakt: Pfrn Esther
  Marchlewitz Tel. 071 855 48 65\n\nWeitere Infos:
  https://www.ref-rorschach.ch/veranstaltung/27646
SUMMARY:Gottesdienst
PRIORITY:5
X-MICROSOFT-CDO-IMPORTANCE:1
CLASS:PUBLIC
END:VEVENT
END:VCALENDAR
