BEGIN:VCALENDAR
PRODID:-//kirchenweb.ch gmbh//veranstaltungsausgabe v2.0//DE
VERSION:2.0
METHOD:PUBLISH
BEGIN:VEVENT
DTSTART:20230506T180000Z
DTEND:20230506T200000Z
LOCATION:EKZ - Evang. Kirchgemeindezentrum\, \,
TRANSP:OPAQUE
SEQUENCE:0
UID:27127-veranstaltung@ref-rorschach.ch
DTSTAMP:20230330T114717Z
DESCRIPTION:Der ehemalige Bestatter und Ex-Polizist Luc Conrad (Mike
  Müller)\, der in seinem neuen Leben ein Restaurant in Costa Rica
  führt\, reist in die Schweiz\, um mit Erika Bürgisser (Suly
  Röthlisberger) ihren 70. Geburtstag zu feiern. Seine alten Weggefährten
  Fabio Testi (Reto Stalder) und die beiden Aargauer Polizisten Anna-Maria
  (Barbara Terpoorten) und Doerig (Samuel Streiff) sind natürlich auch zur
  Feier in einem alten\, heruntergekommenen Hotel im Engadin eingeladen.
  Gerade als sich alle zur Feier im Garten versammeln\, kommt der
  Hoteldirektor unter mysteriösen Umständen ums Leben. Für den Bündner
  Kantonspolizisten Cavegn ist klar\, dass es ein Unfall war. Doch die
  Bestatter-Familie vermutet aufgrund der letzten Worte des Toten\, dass es
  sich um einen Mord handelt\, und verlängert ihren Aufenthalt.\n
 \nKrimi-Komödie 96 min\nDialekt geeignet ab 12 Jahren\n\nOnline-Tickets
  Reservation. Reservieren Sie Ihren gewünschten Platz bequem am Computer.
  Die Tickets müssen spätestens 15 Minuten vor Kinobeginn bei der Kasse
  gekauft werden.\nhttps://www.cevikino.ch/reservation/ \n
 \nhttps://ascot-elite.ch/movie/de/28/2409/Der_Bestatter__Der_Film.html\n
 \nhttps://vimeo.com/805467505																							\n\nKontakt: Peter
  Bruderer Tel. 071 844 54 16\n\nWeitere Infos:
  https://www.ref-rorschach.ch/veranstaltung/27127
SUMMARY:Cevi-Kino "Der Bestatter - Der Film"
PRIORITY:5
X-MICROSOFT-CDO-IMPORTANCE:1
CLASS:PUBLIC
END:VEVENT
END:VCALENDAR
