BEGIN:VCALENDAR
PRODID:-//kirchenweb.ch gmbh//veranstaltungsausgabe v2.0//DE
VERSION:2.0
METHOD:PUBLISH
BEGIN:VEVENT
DTSTART:20231112T160000Z
DTEND:20231112T183000Z
LOCATION:EKZ - Evang. Kirchgemeindezentrum\, \,
TRANSP:OPAQUE
SEQUENCE:0
UID:27124-veranstaltung@ref-rorschach.ch
DTSTAMP:20231218T133548Z
DESCRIPTION:Der Kinoabend für Frauen - Auf dem Sofa\nDa ist FRAUKE
  (Martina Gedeck)\, die sich „kurz vor der 60“ nicht mehr
  begehrenswert findet\, während ihr pensionierter Mann WOLFI (Joachim
  Król) ohne Arbeit nicht weiss\, wohin mit sich. Ihre Tochter JULIE
  (Emilia Schüle) will als Model endlich den Durchbruch schaffen und
  versucht verbissen\, ihren Körper in das Schönheitsideal der Branche zu
  pressen. Das verfolgt wiederum Schülerin LEYLA (Dilara Aylin Ziem)\, die
  überzeugt ist\, mit Julies Aussehen ein besseres Leben führen zu
  können\, und selbst keinen Bezug zu sich findet. Auch Julies Schwägerin
  SONJA (Karoline Herfurth) hat mit ihrem Körper zu kämpfen\, der nach
  zwei Schwangerschaften zum Ausdruck einer Lebenskrise wird. Ihr Mann
  MILAN (Friedrich Mücke) hat dabei nicht im Blick\, welchen Druck sie
  sich als junge Mutter auferlegt. Das ist wiederum für Sonjas beste
  Freundin VICKY (Nora Tschirner) keine grosse Überraschung\, ist sie doch
  überzeugt davon\, dass Frauen und Männer nicht und niemals
  gleichberechtigt auf Augenhöhe zusammenfinden werden\, zumindest nicht
  in der Liebe. Ihr neuer Kollege FRANZ (Maximilian Brückner) würde sie
  allerdings gern vom Gegenteil überzeugen.\n\nKomödie 131 min \nDeutsch
  geeignet ab 12 Jahren\n\nOnline-Tickets Reservation. Reservieren Sie
  Ihren gewünschten Platz bequem am Computer. Die Tickets müssen
  spätestens 15 Minuten vor Kinobeginn bei der Kasse gekauft werden.
 \nhttps://www.cevikino.ch/reservation/ \n\n	 																				\n
 \nKontakt: Peter Bruderer Tel. 071 844 54 16\n\nWeitere Infos:
  https://www.ref-rorschach.ch/veranstaltung/27124
SUMMARY:Cevi-Kino "Wunderschön"
PRIORITY:5
X-MICROSOFT-CDO-IMPORTANCE:1
CLASS:PUBLIC
END:VEVENT
END:VCALENDAR
