BEGIN:VCALENDAR
PRODID:-//kirchenweb.ch gmbh//veranstaltungsausgabe v2.0//DE
VERSION:2.0
METHOD:PUBLISH
BEGIN:VEVENT
DTSTART:20231112T130000Z
DTEND:20231112T145000Z
LOCATION:EKZ - Evang. Kirchgemeindezentrum\, \,
TRANSP:OPAQUE
SEQUENCE:0
UID:27117-veranstaltung@ref-rorschach.ch
DTSTAMP:20231025T114216Z
DESCRIPTION:Nach dem Riesenerfolg von CHECKER TOBI UND DAS GEHEIMNIS
  UNSERES PLANETEN mit über 500.000 Zuschauern kommt endlich der zweite\,
  noch spannendere Kinofilm des beliebten KiKA-Moderators auf die grossen
  Leinwände: In CHECKER TOBI UND DIE REISE ZU DEN FLIEGENDEN FLÜSSEN
  dreht sich alles um eine geheimnisvolle Schatzkiste\, die Tobi eines
  Tages erhält. Doch die Kiste ist verschlossen\, und nur eine Person hat
  den Schlüssel: Marina – Weltumseglerin und Tobis beste Freundin aus
  Kindertagen. Aber wo steckt sie? Mit der Suche nach ihr beginnt auch
  Tobis neuestes Abenteuer.\n\nFamilienfilm 92 min \nDeutsch geeignet ab 6
  Jahren\n\nOnline-Tickets Reservation. Reservieren Sie Ihren gewünschten
  Platz bequem am Computer. Die Tickets müssen spätestens 15 Minuten vor
  Kinobeginn bei der Kasse gekauft werden.
 \nhttps://www.cevikino.ch/reservation/ \n\n																	\n\nKontakt:
  Peter Bruderer Tel. 071 844 54 16\n\nWeitere Infos:
  https://www.ref-rorschach.ch/veranstaltung/27117
SUMMARY:Cevi-Kino "Checker Tobi und die Reise zu den fliegenden Flüssen"
PRIORITY:5
X-MICROSOFT-CDO-IMPORTANCE:1
CLASS:PUBLIC
END:VEVENT
END:VCALENDAR
