BEGIN:VCALENDAR
PRODID:-//kirchenweb.ch gmbh//veranstaltungsausgabe v2.0//DE
VERSION:2.0
METHOD:PUBLISH
BEGIN:VEVENT
DTSTART:20230312T130000Z
DTEND:20230312T145000Z
LOCATION:EKZ - Evang. Kirchgemeindezentrum\, \,
TRANSP:OPAQUE
SEQUENCE:0
UID:27113-veranstaltung@ref-rorschach.ch
DTSTAMP:20230330T115511Z
DESCRIPTION:Der Film handelt von den lustigen Abenteuern dreier
  ägyptischer Mumien\, die in einer unterirdischen\, geheimen Stadt im
  alten Ägypten leben. Das Trio besteht aus einer Prinzessin\, einem
  ehemaligen Streitwagenfahrer und seinem jüngeren Bruder – und dann ist
  da noch ihr Haustier\, ein Babykrokodil. Durch eine Reihe unglücklicher
  Ereignisse landen die Mumien im London der Gegenwart. Dort begeben sie
  sich auf eine verrückte und urkomische Mission\, um einen alten Ring zu
  finden\, der der königlichen Familie gehört und von dem ehrgeizigen
  Archäologen Lord Carnaby gestohlen wurde.\n\nAnimation 88 min\nDeutsch
  geeignet ab 6/8 Jahren\n\nOnline-Tickets Reservation. Reservieren Sie
  Ihren gewünschten Platz bequem am Computer. Die Tickets müssen
  spätestens 15 Minuten vor Kinobeginn bei der Kasse gekauft werden.
 \nhttps://www.cevikino.ch/reservation/ \n
 \nhttps://www.warnerbros.ch/filme/mummies\n
 \nhttps://youtu.be/lP5k-dHAtLY																			\n\nKontakt: Peter
  Bruderer Tel. 071 844 54 16\n\nWeitere Infos:
  https://www.ref-rorschach.ch/veranstaltung/27113
SUMMARY:Cevi-Kino "Mumien - Ein total verwickeltes Abenteuer"
PRIORITY:5
X-MICROSOFT-CDO-IMPORTANCE:1
CLASS:PUBLIC
END:VEVENT
END:VCALENDAR
