BEGIN:VCALENDAR
PRODID:-//kirchenweb.ch gmbh//veranstaltungsausgabe v2.0//DE
VERSION:2.0
METHOD:PUBLISH
BEGIN:VEVENT
DTSTART:20231110T180000Z
DTEND:20231110T195000Z
LOCATION:EKZ - Evang. Kirchgemeindezentrum\, \,
TRANSP:OPAQUE
SEQUENCE:0
UID:27109-veranstaltung@ref-rorschach.ch
DTSTAMP:20231025T114107Z
DESCRIPTION:Martina (Leni Deschner) hat es nicht leicht: Sie wohnt mit
  ihrer Mutter und ihrem kleinen Bruder in einer Hochhaussiedlung in
  Berlin. Die Mutter kann wegen der Schichtarbeit nicht immer auf den
  kleinen Bruder aufpassen\, also übernimmt Martina das. Doch eines Tages
  ändert sich ihr Leben schlagartig\, denn sie hat es geschafft\, am
  begehrten Johann-Sigismund- Gymnasium im Alpenstädtchen Kirchberg
  aufgenommen zu werden. Doch schon am ersten Tag machen Jo (Lovena
  Börschmann Ziegler)\, Boxer Matze (Morten Völlger) und der kleine Uli
  (Wanja Valentin Kube) klar\, wer den Ton angibt. An der Schule ist
  allgemein bekannt\, dass Stadt- und Dorfkinder keinen Kontakt miteinander
  haben\, da zwischen denen eine alte Rivalität herrscht. Die
  charismatische Ruda (Franka Roche) und ein geheimnisvoller Junge (Trystan
  Pütter) ziehen schliesslich Martinas Aufmerksamkeit auf sich. Als es
  eines Tages zu einem Streit zwischen den Gruppen kommt und Ruda
  involviert ist\, kann Martina sich nicht mehr raushalten und greift ein.
  Ob das die richtige Entscheidung war?\n\nKomödie 86 min\nDeutsch
  geeignet ab 6/8 Jahren\n\nOnline-Tickets Reservation. Reservieren Sie
  Ihren gewünschten Platz bequem am Computer. Die Tickets müssen
  spätestens 15 Minuten vor Kinobeginn bei der Kasse gekauft werden.
 \nhttps://www.cevikino.ch/reservation/ \n
 \nhttps://de.cinefile.ch/movie/31523-das-fliegende-klassenzimmer\n
 \n																	\n\nKontakt: Peter Bruderer Tel. 071 844 54 16\n
 \nWeitere Infos: https://www.ref-rorschach.ch/veranstaltung/27109
SUMMARY:Cevi-Kino "Das fliegende Klassenzimmer"
PRIORITY:5
X-MICROSOFT-CDO-IMPORTANCE:1
CLASS:PUBLIC
END:VEVENT
END:VCALENDAR
