BEGIN:VCALENDAR
PRODID:-//kirchenweb.ch gmbh//veranstaltungsausgabe v2.0//DE
VERSION:2.0
METHOD:PUBLISH
BEGIN:VEVENT
DTSTART:20230505T170000Z
DTEND:20230505T190000Z
LOCATION:EKZ - Evang. Kirchgemeindezentrum\, \,
TRANSP:OPAQUE
SEQUENCE:0
UID:27108-veranstaltung@ref-rorschach.ch
DTSTAMP:20231025T112312Z
DESCRIPTION:Nintendo und Illumination bringen mit DER SUPER MARIO BROS.
  FILM einen neuen Animationsfilm basierend auf der Welt von Super Mario
  Bros. in die Kinos.\nBei unterirdischen Reparaturen an einer
  Wasserleitung werden die Brooklyner Klempner Mario un Luigi plötzlich in
  eine geheimnisvolle Röhre gesaugt und landen daraufhin in einer
  magischen neuen Welt. Als die Brüder dort getrennt werden\, begibt Mario
  sich auf eine gigantische Reise\, um Luigi zu finden. \nDER SUPER MARIO
  BROS. FILM wurde inszeniert von Aaron Horvath und Michael Jelenic (Teen
  Titans Go! To the Movies) nach einem Drehbuch von Matthew Fogel (The LEGO
  Movie 2\, Minions – Auf der Suche nach dem Mini-Boss) und versammelt
  die Stimmen von Chris Pratt (Jurassic World) als Mario\, Anya Taylor-Joy
  (Last Night in Soho) als Prinzessin Peach\, Charlie Day (Pacific Rim 2:
  Uprising) als Luigi\, Jack Black (Jumanji: Willkommen im Dschungel) als
  Bowser\, Keegan-Michael Key (Der König der Löwen) als Toad\, Seth Rogen
  (Sausage Party – Es geht um die Wurst) als Donkey Kong\, Fred Armisen
  (Die Mitchells gegen die Maschinen) als Cranky Kong\, Kevin Michael
  Richardson (Transformers – Die Rache) als Kamek und Sebastian
  Maniscalco ( Catch Me!) als Spike.\n	\nAnimation 92 min\nDeutsch geeignet
  ab 6/8 Jahren\n\nOnline-Tickets Reservation. Reservieren Sie Ihren
  gewünschten Platz bequem am Computer. Die Tickets müssen spätestens 15
  Minuten vor Kinobeginn bei der Kasse gekauft werden.
 \nhttps://www.cevikino.ch/reservation/ \n
 \nhttps://www.universalpictures.ch/micro/super-mario-bros \n
 \nhttps://youtu.be/XIbbR2CKbZU																	\n\nKontakt: Peter Bruderer
  Tel. 071 844 54 16\n\nWeitere Infos:
  https://www.ref-rorschach.ch/veranstaltung/27108
SUMMARY:Cevi-Kino "Der Super Mario Bros.-Film"
PRIORITY:5
X-MICROSOFT-CDO-IMPORTANCE:1
CLASS:PUBLIC
END:VEVENT
END:VCALENDAR
