BEGIN:VCALENDAR
PRODID:-//kirchenweb.ch gmbh//veranstaltungsausgabe v2.0//DE
VERSION:2.0
METHOD:PUBLISH
BEGIN:VEVENT
DTSTART:20231109T183000Z
DTEND:20231109T203000Z
LOCATION:EKZ - Evang. Kirchgemeindezentrum\, \,
TRANSP:OPAQUE
SEQUENCE:0
UID:27105-veranstaltung@ref-rorschach.ch
DTSTAMP:20231025T114008Z
DESCRIPTION:Eine zauberhafte Klang-Bild-Reise\, die Heimat\, Tradition und
  Identität neu denken lässt.\nDer Film Beyond Tradition erzählt vom
  Brückenbauen zwischen Konventionen und Erneuerungen. Junge Sänger und
  Sängerinnen aus drei Ländern hinterfragen ihre Kultur und stellen sich
  der grossen Herausforderung\, ihre Wurzeln mit dem modernen Leben zu
  verknüpfen. Auf der Suche nach der eigenen Identität wird die
  Klangreise zur Projektionsfläche für die Sehnsucht nach Heimat und dem
  Bedürfnis nach Austausch\, ein Spannungsverhältnis\, das im Zeitalter
  der Globalisierung so wichtig geworden ist.\nWas ist eigentlich
  Tradition?\nFür den Appenzeller Naturjodler Meinrad Koch ist es ein
  Balanceakt zwischen altbewährten Ritualen und mutiger Innovation. Auf
  seiner Suche nach einem offenen Verständnis von Tradition tauscht sich
  Meinrad im norwegischen Teil von Sápmi mit der aufsteigenden Joikerin
  Marja Mortensson über ihre jodelartige und ursprünglich schamanistische
  Gesangskultur aus\, die jahrhundertelang verboten war und die Marja nun
  wiederbelebt. Für Marja ist Tradition ein Mittel\, um der Minderheit der
  Sami eine Stimme zu geben. Im georgischen Rustavi trifft Meinrad die
  Musikstudentin Ninuca Kakhiani. Seit ihrer Kindheit singt sie im
  international bekannten Jugendchor Tutarchela. Sie ist nicht nur mit den
  traditionellen Gesängen und dem georgischen Jodeln gross geworden\,
  sondern hat auch gelernt\, über den eigenen Tellerrand hinauszuschauen
  und sich mit Musikkulturen jenseits ihrer eigenen zu beschäftigen.\n
 \nCH- Dokumentarfilm 100 min \nDialekt geeignet ab 12 Jahren\n
 \nOnline-Tickets Reservation. Reservieren Sie Ihren gewünschten Platz
  bequem am Computer. Die Tickets müssen spätestens 15 Minuten vor
  Kinobeginn bei der Kasse gekauft werden.
 \nhttps://www.cevikino.ch/reservation/ \n\nhttps://beyondtradition.ch/\n
 \n																								\n\nKontakt: Peter Bruderer Tel. 071 844 54 16\n
 \nWeitere Infos: https://www.ref-rorschach.ch/veranstaltung/27105
SUMMARY:Cevi-Kino "BEYOND TRADITION - Kraft der Naturstimmen"
PRIORITY:5
X-MICROSOFT-CDO-IMPORTANCE:1
CLASS:PUBLIC
END:VEVENT
END:VCALENDAR
