BEGIN:VCALENDAR
PRODID:-//kirchenweb.ch gmbh//veranstaltungsausgabe v2.0//DE
VERSION:2.0
METHOD:PUBLISH
BEGIN:VEVENT
DTSTART:20220511T143000Z
DTEND:20220511T151500Z
LOCATION:Kirche Eingang West - Kleingottesdienstraum\, \,
TRANSP:OPAQUE
SEQUENCE:0
UID:27029-veranstaltung@ref-rorschach.ch
DTSTAMP:20220501T170850Z
DESCRIPTION:Sing a song\n\n-	Singen für Jugendliche ab der 5. Klasse\,
 \n-	Mittwochs von 16.30 – 17.15 Uhr\,\n-	Am 11. Mai / 18. Mai / 1. Juni
  / 8. Juni / 15. Juni 2022.\n-	Kleingottesdienstraum der Ref. Kirche
  Rorschach\n-	Leitung: Ute Rendar (ute.rendar@ref-rorschach.ch)\n\nWir
  singen coole Lieder\, die Spass machen!\n\n\nKontakt: Ute Rendar Tel. 071
  460 02 46\n\nWeitere Infos:
  https://www.ref-rorschach.ch/veranstaltung/27029
SUMMARY:sing a song - Singen für Jugendliche
PRIORITY:5
X-MICROSOFT-CDO-IMPORTANCE:1
CLASS:PUBLIC
END:VEVENT
END:VCALENDAR
