BEGIN:VCALENDAR
PRODID:-//kirchenweb.ch gmbh//veranstaltungsausgabe v2.0//DE
VERSION:2.0
METHOD:PUBLISH
BEGIN:VEVENT
DTSTART:20231216T083000Z
DTEND:20231216T100000Z
LOCATION:Kirche Eingang West - Kleingottesdienstraum\, \,
TRANSP:OPAQUE
SEQUENCE:0
UID:26898-veranstaltung@ref-rorschach.ch
DTSTAMP:20220624T170546Z
DESCRIPTION:einfach singen - singen für alle\, singen zum Spass!\nAlle\,
  die gern singen oder es einfach mal ausprobieren möchten\, sind herzlich
  eingeladen\, drauflos zu singen: Kanons\, Volkslieder\, Songs\, moderne
  Lieder.\nWir treffen uns jeweils samstags von 9.30 Uhr - 11.00 Uhr im
  Kleingottesdienstraum der Kirche.\nDie Termine sind: 21.1.\, 18.2.\,
  11.3.\, 6.5.\, 10.6.\, 1.7.\, 19.8.\, 23.9.\, 4.11.\, 16.12.2023.\nDie
  Leitung hat Ute Rendar\, Kirchenmusikerin.\n\nKontakt: Ute Rendar Tel.
  071 460 02 46\n\nWeitere Infos:
  https://www.ref-rorschach.ch/veranstaltung/26898
SUMMARY:einfach singen
PRIORITY:5
X-MICROSOFT-CDO-IMPORTANCE:1
CLASS:PUBLIC
END:VEVENT
END:VCALENDAR
