BEGIN:VCALENDAR
PRODID:-//kirchenweb.ch gmbh//veranstaltungsausgabe v2.0//DE
VERSION:2.0
METHOD:PUBLISH
BEGIN:VEVENT
DTSTART:20220921T161500Z
DTEND:20220921T170000Z
LOCATION:Kirche Eingang West - Kleingottesdienstraum\, \,
TRANSP:OPAQUE
SEQUENCE:0
UID:26406-veranstaltung@ref-rorschach.ch
DTSTAMP:20220804T082017Z
DESCRIPTION:Gottesdienst zum Mitreden - anschl. kleines Znacht\n\nJeden 3.
  Mittwoch im Monat um 18.15 Uhr im Kleingottesdienstraum\n(Keine Feier im
  Juli und Dezember)\n\nWas erwartet mich?\nMitten in der Woche den Tag
  bewusst ausklingen lassen. Mit der Bibel und anderen Menschen ins
  Gespräch kommen. Gottes Gegenwart in der Stille spüren. Gemeinsam
  singen. In der Feier über das Gewohnte hinausblicken.\n\nkleines Znacht
 \nLassen Sie sich einladen\, nach der Andacht in geselliger Runde Brot und
  Käse zu geniessen. Wer mag\, darf gern etwas zum Teilen mitbringen. Das
  Znacht kann jederzeit verlassen werden\, wenn das Bett oder der Alltag
  ruft.\n\nKosten\nDie Teilnahme ist kostenlos. \n\nAnmeldung\nEs ist keine
  Anmeldung erforderlich. \n\nKontakt: Pfr. Patrick Marchlewitz Tel. 071
  855 48 65\n\nWeitere Infos:
  https://www.ref-rorschach.ch/veranstaltung/26406
SUMMARY:Spätschicht - Abendandacht
PRIORITY:5
X-MICROSOFT-CDO-IMPORTANCE:1
CLASS:PUBLIC
END:VEVENT
END:VCALENDAR
