BEGIN:VCALENDAR
PRODID:-//kirchenweb.ch gmbh//veranstaltungsausgabe v2.0//DE
VERSION:2.0
METHOD:PUBLISH
BEGIN:VEVENT
DTSTART:20221127T090000Z
DTEND:20221127T100000Z
LOCATION:EKZ - Evang. Kirchgemeindezentrum\, Signalstrasse 34\, 9400
  Rorschach
TRANSP:OPAQUE
SEQUENCE:0
UID:26395-veranstaltung@ref-rorschach.ch
DTSTAMP:20211029T130615Z
DESCRIPTION:Ein Gottesdienstangebot für Familien mit Kindern von 0 bis 8
  Jahren \n\nUnsere ökumenische Chinderfiir lädt Eltern mit ihren
  Kindern\, Grosseltern\, Götti / Gotte zum miteinander Spielen\, Singen\,
  Tanzen\, Beten und fröhlich sein ein. Keiner ist hier zu jung - jeder
  ist herzlich willkommen. \n\nDie Gottesdienste finden ca. 6 x pro Jahr
  statt. \n\nDas gemeinsame Basteln beginnt jeweils eine Viertelstunde vor
  Feierbeginn (Ausnahme Oster-Feier). \n\nKontakt: Pfr. Patrick Marchlewitz
  Tel. 071 855 48 65\n\nWeitere Infos:
  https://www.ref-rorschach.ch/veranstaltung/26395
SUMMARY:Ökumenische Chinderfiir
PRIORITY:5
X-MICROSOFT-CDO-IMPORTANCE:1
CLASS:PUBLIC
END:VEVENT
END:VCALENDAR
