BEGIN:VCALENDAR
PRODID:-//kirchenweb.ch gmbh//veranstaltungsausgabe v2.0//DE
VERSION:2.0
METHOD:PUBLISH
BEGIN:VEVENT
DTSTART:20211114T080000Z
DTEND:20211114T084000Z
LOCATION:Kirche\, \,
TRANSP:OPAQUE
SEQUENCE:0
UID:26331-veranstaltung@ref-rorschach.ch
DTSTAMP:20211029T065958Z
DESCRIPTION:Gottesdienst\n\nKeine Covid-Zertifikatspflicht\nMaximal 50
  Personen\nMaske\nPräsenzliste \nReservation:
  https://www.ref-rorschach-reservation.ch/\noder per Telefon an Pfrn.
  Esther Marchlewitz  071 855 48 65\n\nKontakt: Pfrn Esther Marchlewitz
  Tel. 071 855 48 65\n\nWeitere Infos:
  https://www.ref-rorschach.ch/veranstaltung/26331
SUMMARY:Frühgottesdient
PRIORITY:5
X-MICROSOFT-CDO-IMPORTANCE:1
CLASS:PUBLIC
END:VEVENT
END:VCALENDAR
