BEGIN:VCALENDAR
PRODID:-//kirchenweb.ch gmbh//veranstaltungsausgabe v2.0//DE
VERSION:2.0
METHOD:PUBLISH
BEGIN:VEVENT
DTSTART:20211121T080000Z
DTEND:20211121T084000Z
LOCATION:Kirche\, Signalstrasse 34\, 9400 Rorschach
TRANSP:OPAQUE
SEQUENCE:0
UID:26297-veranstaltung@ref-rorschach.ch
DTSTAMP:20211104T152420Z
DESCRIPTION:In diesem Gottesdienst gedenken wir der Verstorbenen des
  vergangenen Kirchenjahres. \n\nIn diesem Gottesdienst ist keine Taufe
  möglich. \n\nFür Kinder ist eine Spielecke eingerichtet. \n\nKeine
  Covid-Zertifikatspflicht \n - Maximal 50 Personen\n - Maskenpflicht\n -
  Teilnehmerliste\n - Platzreservation unter
  http://www.ref-rorschach-reservation.ch oder per Telefon an Pfr. Patrick
  Marchlewitz.\n\nKontakt: Pfr. Patrick Marchlewitz Tel. 071 855 48 65\n
 \nWeitere Infos: https://www.ref-rorschach.ch/veranstaltung/26297
SUMMARY:Gottesdienst in der Kirche - Ewigkeitssonntag
PRIORITY:5
X-MICROSOFT-CDO-IMPORTANCE:1
CLASS:PUBLIC
END:VEVENT
END:VCALENDAR
