BEGIN:VCALENDAR
PRODID:-//kirchenweb.ch gmbh//veranstaltungsausgabe v2.0//DE
VERSION:2.0
METHOD:PUBLISH
BEGIN:VEVENT
DTSTART:20211017T070000Z
DTEND:20211017T080000Z
LOCATION:Kirche\, \,
TRANSP:OPAQUE
SEQUENCE:0
UID:26290-veranstaltung@ref-rorschach.ch
DTSTAMP:20210913T090054Z
DESCRIPTION:Frühgottesdienst\n\nKeine Covid-Zertifikatspflicht\nMaximal
  50 Personen\nMaske\nPräsenzliste\nReservations-Link:
  https://www.ref-rorschach-reservation.ch/\noder per Telefon an Pfr. Pius
  Helfenstein\, 071 844 54 14\n\n\nI\n\nKontakt: Pfr. Pius F. Helfenstein
  Tel. 071 844 54 14\n\nWeitere Infos:
  https://www.ref-rorschach.ch/veranstaltung/26290
SUMMARY:Frühgottesdienst: Lehre uns bedenken\, dass wir sterben müssen
PRIORITY:5
X-MICROSOFT-CDO-IMPORTANCE:1
CLASS:PUBLIC
END:VEVENT
END:VCALENDAR
