BEGIN:VCALENDAR
PRODID:-//kirchenweb.ch gmbh//veranstaltungsausgabe v2.0//DE
VERSION:2.0
METHOD:PUBLISH
BEGIN:VEVENT
DTSTART:20220529T080000Z
DTEND:20220529T090000Z
LOCATION:Kirche\, \,
TRANSP:OPAQUE
SEQUENCE:0
UID:26127-veranstaltung@ref-rorschach.ch
DTSTAMP:20220524T071037Z
DESCRIPTION:In diesem Gottesdienst ist eine Taufe möglich. \nFür Kinder
  ist eine Spielecke eingerichtet. \nIm Anschluss sind alle herzlich zum
  ChileKafi eingeladen.\n\nKontakt: Pfr. Pius F. Helfenstein Tel. 071 844
  54 14\n\nWeitere Infos: https://www.ref-rorschach.ch/veranstaltung/26127
SUMMARY:Gottesdienst
PRIORITY:5
X-MICROSOFT-CDO-IMPORTANCE:1
CLASS:PUBLIC
END:VEVENT
END:VCALENDAR
