BEGIN:VCALENDAR
PRODID:-//kirchenweb.ch gmbh//veranstaltungsausgabe v2.0//DE
VERSION:2.0
METHOD:PUBLISH
BEGIN:VEVENT
DTSTART:20220227T090000Z
DTEND:20220227T100000Z
LOCATION:Kirche\, Signalstrasse 34\, 9400 Rorschach
TRANSP:OPAQUE
SEQUENCE:0
UID:26046-veranstaltung@ref-rorschach.ch
DTSTAMP:20220223T100208Z
DESCRIPTION:Wir feiern einen Familien-Gottesdienst zur Einstimmung auf den
  Weltgebetstag am kommenden Freitag\, 04.03.2022\nLiturgie und Thema
  Weltgebetstages stammen in diesem Jahr aus England\, Wales und
  Nordirland.\nMusikalisch gestaltet wird der Gottesdienst von der
  Punkt-10-Band und dem Kinderprojektchor "Sunnestrahl" (beide unter
  Leitung von Ute Rendar.)\n\n\nIn diesem Gottesdienst ist eine Taufe
  möglich. \n\nFür Kinder ist eine Mal- und Spielecke eingerichtet. \n
 \nIn Anschluss an den Gottesdienst sind alle zum ChileKafi eingeladen. \n
 \nKontakt: Pfrn Esther Marchlewitz Tel. 071 855 48 65\n\nWeitere Infos:
  https://www.ref-rorschach.ch/veranstaltung/26046
SUMMARY:Punkt 10 - Familien Gottesdienst - Warm-up Weltgebetstag
PRIORITY:5
X-MICROSOFT-CDO-IMPORTANCE:1
CLASS:PUBLIC
END:VEVENT
END:VCALENDAR
