BEGIN:VCALENDAR
PRODID:-//kirchenweb.ch gmbh//veranstaltungsausgabe v2.0//DE
VERSION:2.0
METHOD:PUBLISH
BEGIN:VEVENT
DTSTART:20210821T190000Z
DTEND:20210821T210000Z
LOCATION:Wilen Wartegg\, \,
TRANSP:OPAQUE
SEQUENCE:0
UID:25648-veranstaltung@ref-rorschach.ch
DTSTAMP:20210618T122641Z
DESCRIPTION:Die in Indien lebende\, zehnjährige Britin Mary Lennox wird
  nach dem plötzlichen Tod ihrer Eltern auf das tief in den Yorkshire
  Moors gelegene Landgut ihres Onkels Archibald geschickt. Weder der Onkel
  noch die Haushälterin interessieren sich für das Mädchen. Die
  Geheimnisse in dem grossen Haus mit den verschlossenen Zimmern wecken
  schnell Marys Neu-gier. Sie erfährt von einem geheimen Garten\, den seit
  zehn Jahren niemand betreten hat und macht sich auf die Suche. Aber was
  sie findet\, ist weitaus mehr als irgend ein Garten! Gemeinsam mit ihrem
  kränklichen Cousin Colin und ihrem neu gewonnenen Freund Dickon entdeckt
  sie eine farbenprächtige und nahezu magische Welt\, die nicht nur ihr
  eigenes Leben von Grund auf verändern wird….\nFamilienfilm 100 min 
 \nDeutsch geeignet ab 8 Jahren\n\n
  https://www.visionkino.de/filmtipps/filmtipp/der-geheime-garten/         
       \n\nhttps://youtu.be/ucZlnduCbL0				\n 																	
 \nhttps://www.ref-rorschach.ch/openairkino\n\n\n\nKontakt: Peter Bruderer
  Tel. 071 844 54 16\n\nWeitere Infos:
  https://www.ref-rorschach.ch/veranstaltung/25648
SUMMARY:Open Air Kino "Der geheime Garten"
PRIORITY:5
X-MICROSOFT-CDO-IMPORTANCE:1
CLASS:PUBLIC
END:VEVENT
END:VCALENDAR
