BEGIN:VCALENDAR
PRODID:-//kirchenweb.ch gmbh//veranstaltungsausgabe v2.0//DE
VERSION:2.0
METHOD:PUBLISH
BEGIN:VEVENT
DTSTART:20221207T051500Z
DTEND:20221207T064500Z
LOCATION:Kirche Eingang West - Kleingottesdienstraum\, Signalstrasse 34\,
  9400 Rorschach
TRANSP:OPAQUE
SEQUENCE:0
UID:25293-veranstaltung@ref-rorschach.ch
DTSTAMP:20220804T082750Z
DESCRIPTION:anregend & ermutigend - anschl. Zmorge\n\nJeden 1. Mittwoch im
  Monat um 6.15 Uhr im Kleingottesdienstraum\n(Keine Feier im Januar und
  August.)\n\nWas erwartet mich?\nMitten in der Woche den Tag bewusst
  beginnen. Sich Zeit nehmen für sich selbst. Mit einem guten Gedanken in
  den Tag starten. Gottes Gegenwart in der Stille spüren. Gemeinsam
  singen. Mit der Weisheit der Bibel über das Gewohnte hinausblicken.\n
 \nZmorge\nLassen Sie sich einladen\, nach der Andacht in geselliger Runde
  einen kleinen Zmorge zu geniessen. Das Frühstück kann jederzeit
  verlassen werden\, wenn die Arbeit\, die Schule oder der Alltag ruft.\n
 \nKosten\nDie Teilnahme ist kostenlos. \n\nAnmeldung\nEs ist keine
  Anmeldung erforderlich. \n\nKontakt: Pfr. Patrick Marchlewitz Tel. 071
  855 48 65\n\nWeitere Infos:
  https://www.ref-rorschach.ch/veranstaltung/25293
SUMMARY:Frühschicht - Morgenandacht
PRIORITY:5
X-MICROSOFT-CDO-IMPORTANCE:1
CLASS:PUBLIC
END:VEVENT
END:VCALENDAR
