BEGIN:VCALENDAR
PRODID:-//kirchenweb.ch gmbh//veranstaltungsausgabe v2.0//DE
VERSION:2.0
METHOD:PUBLISH
BEGIN:VEVENT
DTSTART:20211121T090000Z
DTEND:20211121T100000Z
LOCATION:Kirche\, Signalstrasse 34\, 9400 Rorschach
TRANSP:OPAQUE
SEQUENCE:0
UID:24110-veranstaltung@ref-rorschach.ch
DTSTAMP:20211104T152605Z
DESCRIPTION:In diesem Gottesdienst gedenken wir der Verstorbenen des
  vergangenen Kirchenjahres. \n\nIn diesem Gottesdienst ist keine Taufe
  möglich. \n\nFür Kinder ist eine Spielecke eingerichtet. \n\nIm
  Anschluss sind alle herzlich zum ChileKafi eingeladen. \n\nMit
  Covid-Zertifikatspflicht (ab 16 Jahren)\n - Unbegrenzte Teilnehmerzahl\n
  - Keine Maskenpflicht\n\nKontakt: Pfr. Patrick Marchlewitz Tel. 071 855
  48 65\n\nWeitere Infos: https://www.ref-rorschach.ch/veranstaltung/24110
SUMMARY:Gottesdienst in der Kirche - Ewigkeitssonntag
PRIORITY:5
X-MICROSOFT-CDO-IMPORTANCE:1
CLASS:PUBLIC
END:VEVENT
END:VCALENDAR
