BEGIN:VCALENDAR
PRODID:-//kirchenweb.ch gmbh//veranstaltungsausgabe v2.0//DE
VERSION:2.0
METHOD:PUBLISH
BEGIN:VEVENT
DTSTART:20211114T090000Z
DTEND:20211114T100000Z
LOCATION:Kirche\, Signalstrasse 34\, 9400 Rorschach
TRANSP:OPAQUE
SEQUENCE:0
UID:24108-veranstaltung@ref-rorschach.ch
DTSTAMP:20210928T155934Z
DESCRIPTION:Gottesdienst mit Covid-Zertifikatspflicht\nUnbegrenzte
  Teilnehmerzahl\nKeine Maske notwendig\n\nEs singen die Kinderchöre:
  Singplausch und Sunnestrahl. \n\nIn diesem Gottesdienst ist eine Taufe
  möglich. \n\nFür Kinder ist eine Spielecke eingerichtet. \n\nIm
  Anschluss sind alle herzlich zum ChileKafi eingeladen. \n\nKontakt: Pfrn
  Esther Marchlewitz Tel. 071 855 48 65\n\nWeitere Infos:
  https://www.ref-rorschach.ch/veranstaltung/24108
SUMMARY:Familien - Sing - Gottesdienst
PRIORITY:5
X-MICROSOFT-CDO-IMPORTANCE:1
CLASS:PUBLIC
END:VEVENT
END:VCALENDAR
